Workbook
Name Are_there_local_industry_considerations_with_this_purchase?_E.g._recognise_the_impact_of_international_suppliers_on_participation_by_local_businesses.: '[1]question list and score'!$P$3:$P$8
Name Do_the_specifications_of_the_good_service_require_customisation?: '[1]question list and score'!$A$3:$A$8
Name Does_the_good_service_align_with_other_objectives_of_the_organisation_and_or_broader_Victorian_Government_objectives__for_example_environmental__social_and_or_economic_considerations?: '[1]question list and score'!$AE$3:$AE$8
Name Is_the_community_and_stakeholder_confidence_to_deliver_the_outcome_high?: '[1]question list and score'!$S$3:$S$8
Name Is_the_good_service_being_purchased_from_a_competitive_market_?__Competitive_market_includes_consideration_of_substitute_goods_services_and_the_suppliers_within_the_market: '[1]question list and score'!$G$3:$G$8
Name Is_the_good_service_critical_to_the_organisation_and_or_core_operations_of_the_organisation?: '[1]question list and score'!$D$3:$D$8
Name Is_the_good_service’s_total_cost_of_ownership__TCO__high?: '[1]question list and score'!$V$3:$V$10
Name Will_the_Government’s_purchase_s_impact_the_market?: '[1]question list and score'!$J$3:$J$8
Name Would_the_aggregation_of_demand_be_beneficial_across_organisations_or_within_an_organisation?: '[1]question list and score'!$AB$3:$AB$8
Name Would_there_be_a_significant_interruption_to_the_organisation’s_core_operations_in_the_event_of_supplier_default?: '[1]question list and score'!$M$3:$M$8

Sheet About this template
B5: NSW Government generic procurement template
B6: Title | C6: Value Risk Matrix
B7: Owner | C7: NSW Procurement, Capability & Governance
B8: Location | C8: buy NSW
B10: The purpose of this template is to help procurement and contract management teams assess the overall value and risk of a sourcing activity, procurement category or contract and determine its classification. The resulting classification helps identify the appropriate level of planning, governance, contract management, and oversight required, ensuring resources are applied proportionately to the procurement or contract's complexity and risk profile. • This document is a guide only and should be structured around the specific project objectives of the procurement. • If you’re buying on behalf of a NSW Government agency, you must check whether there’s an agency specific template you need to use. • User instructions and guide notes are provided to assist users in preparing the document, such as formulating text in accordance with their project; and retaining or deleting optional clauses as applicable. All user instructions and guide notes should be deleted after they have been considered/completed.
B12: Modification log
B13: Version | C13: 1
B14: Last modified | C14: 46295
B15: Modified by | C15: Capability & Governance
B16: Modifications made | C16: New template applied
B17: Accessibility | C17: Checked

Sheet Instructions
B6: Value Risk Matrix- Instructions
B12: The Value Risk Matrix assesses a sourcing activity, procurement category or contract's complexity by scoring its risk and value factors. The results place the sourcing activity, category or contract in a matrix quadrant to guide the appropriate sourcing, category, contract and supplier-management strategy.
B21: 1 | C21: Complete the details in rows 4 to 9 for the procurement
C22: category (VRM - Category tab), sourcing activity
C23: (VRM - Sourcing tab), or contract (VRM - Contract tab)
B27: 2 | C27: Next, read each question in column A
C28: using the drop downs in column B, select the appropriate
C29: response, this will auto-fill a number into column C
B34: 3 | C34: This will provide an overall risk score (cell C11) and
C35: value score (cell C19)
B41: 4 | C41: The graph will self complete based on the scores

Sheet VRM - Category
A1: Value Risk Matrix (VRM) for a category of goods or services | C1: Updated 30 September 2026
A2: This VRM can be used to assess the complexity (based on value and risk) of a category (or sub-category) of goods/services
A4: Describe the category of goods/services are you assessing | B4: [e.g. Professional Services]
A5: Question | B5: Answer | C5: Score | D5: Comments
A6: Risk Questions (Y axis) | C6: =SUM(C7:C13) -> 27
A7: ='[1]question list and score'!A2 -> Q1. Do the specifications of the goods/services in the category require customisation? | B7: Yes, however the goods/services only require a low level of customisation (e.g. small/minor configuration or specialisation) | C7: =VLOOKUP($B7,'Question list and score'!$A:$B,2,FALSE) -> 4
A8: ='[1]question list and score'!D2 -> Q2. Is the category of goods/services critical to the organisation and/or its core operations? | B8: Yes, the category of goods/services are of moderate criticality to the organisation and/or core operations. (E.g. may involve servicing or maintaining a critical asset) | C8: =VLOOKUP($B8,'Question list and score'!$D:$E,2,FALSE) -> 6
A9: ='[1]question list and score'!G2 -> Q3. Is the category of goods/services being purchased from a competitive market? Competitive market includes consideration of substitute goods/services and the suppliers within that market | B9: Yes, there is a competitive market where at least 3-5 suitable substitutes or suppliers exist | C9: =VLOOKUP($B9,'Question list and score'!$G:$H,2,FALSE) -> 3
A10: ='[1]question list and score'!J2 -> Q4. Will the purchase(s) within the category impact the local market? | B10: Yes, the procurement has potential to significantly impact the market and may result in a reduction in competition between existing suppliers | C10: =VLOOKUP($B10,'Question list and score'!$J:$K,2,FALSE) -> 4
A11: ='[1]question list and score'!M2 -> Q5. Would there be a significant interruption to the organisation’s core operations if the supplier(s) defaults? | B11: No, because the time to transition to an alternate supplier would be acceptable | C11: =VLOOKUP($B11,'[1]question list and score'!$M:$N,2,FALSE) -> 4
A12: ='[1]question list and score'!P2 -> Q6. Are there local industry considerations with this category? E.g. recognise the impact of international suppliers on participation by local businesses. | B12: Yes, changes to the level of international market participation will impact local suppliers | C12: =VLOOKUP($B12,'Question list and score'!$P:$Q,2,FALSE) -> 6
A13: ='[1]question list and score'!S2 -> Q7. What level of confidence do stakeholders and/or the community (if relevant) have that the required outcome(s) will be delivered? | B13: None or Low: The community and/or stakeholders have little or no confidence that the required outcome(s) will be delivered | C13: =VLOOKUP($B13,'Question list and score'!$S:$T,2,FALSE) -> 0
A14: Value Questions (X axis) | C14: =SUM(C15:C18) -> 30
A15: ='[1]question list and score'!V2 -> Q8. What is the total cost of ownership (TCO) for this category of goods/services? (See Procurement Guide - Value for Money for further information if required) | B15: MODERATE: TCO of this category of goods/services is of moderate value (e.g. top 20 categories for the organisation). There may be a high volume of low value transactions. Include implementation costs across multiple organisations in TCO calculations | C15: =VLOOKUP($B15,'Question list and score'!$V:$W,2,FALSE) -> 4
A16: ='[1]question list and score'!Y2 -> Q9. Is the non cost value of this category of goods/services high? (Examples of non-cost factors include fitness for purpose, quality, delivery, service, support and sustainability impacts) (See Procurement Guide - Value for Money for further information if required) | B16: Yes, the non cost value of the goods/services is very high (e.g. critical to quality and achieving value for money, therefore KPI's would be developed and compliance monitored) | C16: =VLOOKUP($B16,'Question list and score'!$Y:$Z,2,FALSE) -> 18
A17: ='[1]question list and score'!AB2 -> Q10. Would it be beneficial to aggregate demand for this category within an organisation or across organisations? | B17: Demand aggregation should not occur: (1) specs. too complex/novel (2) insufficient demand/economies of scale to benefit (3) good/service is organisation specific limited benefit (4) potential to create a monopoly (5) cost outweighs the benefit | C17: =VLOOKUP($B17,'Question list and score'!$AB$3:$AC$5,2,FALSE) -> 0
A18: ='[1]question list and score'!AE2 -> Q11. Is the purchase of the goods/services within the category consistent with the Government's priorities and objectives (economic, environmental and social) as identified in the Queensland Procurement Policy, State Procurement Plan and State Category Plans? | B18: Partly, purchase of the goods/services aligns with some of the priorities/objectives of Government. May be some trade-off between objectives of the procurement for the organisation and Govt environmental, social or economic policies. | C18: =VLOOKUP($B18,'Question list and score'!$AE:$AF,2,FALSE) -> 8
A19: Results of Value Risk Assessment for a Category/Categories

Sheet VRM - Sourcing
A1: Value Risk Matrix (VRM) for Sourcing Goods & Services | C1: Updated 30 September 2026
A2: This VRM can be used to assess the complexity (based on value and risk) of a sourcing activity for goods or services.
A4: What goods/services are you sourcing (buying)?
A5: Question | B5: Answer | C5: Score | D5: Comments
A6: Risk Questions (Y axis) | B6: Please select from below drop down list | C6: =SUM(C7:C13) -> 42
A7: ='[1]question list and score'!A12 -> Q1. Do the specifications of the goods/services require customisation? | B7: Yes, however the goods/services only require a low level of customisation (e.g. small/minor configuration or specialisation) | C7: =VLOOKUP(B7,'Question list and score'!A12:B16,2,FALSE) -> 4
A8: ='[1]question list and score'!D12 -> Q2. Are the goods/services critical to the organisation and/or its core operations? | B8: Yes, the goods/services are highly critical (i.e. fundamental) to the organisation and/or core operations (e.g. direct impact on critical front line services) | C8: =VLOOKUP(B8,'Question list and score'!D12:E15,2,FALSE) -> 9
A9: ='[1]question list and score'!G12 -> Q3. Are the goods/services being purchased from a competitive market? Competitive market includes consideration of substitute goods/services and the suppliers within that market | B9: No, only one suitable substitute or supplier has been identified and qualified (e.g. where prior intellectual property has been co-developed with a supplier) | C9: =VLOOKUP(B9,'Question list and score'!G12:H16,2,FALSE) -> 9
A10: ='[1]question list and score'!J12 -> Q4. Will the purchase(s) impact the market? | B10: The procurement will be material to the market but will not impact the competitive landscape. There is potential for impact on local suppliers. | C10: =VLOOKUP(B10,'Question list and score'!J12:K16,2,FALSE) -> 2
A11: ='[1]question list and score'!M12 -> Q5. Would there be a significant interruption to the organisation’s core operations if the supplier defaults? | B11: Yes, there would be a significant interruption (major or severe risk) to the organisation’s core operations with a high transition time to an alternate supplier | C11: =VLOOKUP(B11,'Question list and score'!M13:N17,2,FALSE) -> 12
A12: ='[1]question list and score'!P12 -> Q6. Are there local industry considerations with this purchase? E.g. recognise the impact of international suppliers on participation by local businesses. | B12: Yes, changes to the level of international market participation will impact local suppliers | C12: =VLOOKUP(B12,'Question list and score'!P12:Q14,2,FALSE) -> 6
A13: ='[1]question list and score'!S12 -> Q7. What level of confidence do stakeholders and/or the community (if relevant) have that the required outcome(s) will be delivered? | B13: High: The community and/or stakeholders have a high level of confidence that the required outcome(s) will be delivered | C13: =VLOOKUP(B13,'Question list and score'!S12:T15,2,FALSE) -> 0
A14: Value Questions (X axis) | C14: =SUM(C15:C18) -> 18
A15: ='[1]question list and score'!V12 -> Q8. What is the total cost of ownership (TCO) for the goods/services? | B15: LOW: TCO of the goods/services is of low value, (e.g. minimal support or maintenance requirements and estimated spend under $150,000). | C15: =VLOOKUP($B15,'Question list and score'!V12:W17,2,FALSE) -> 0
A16: ='[1]question list and score'!Y12 -> Q9. Is the non cost value of the goods/services high? (Examples of non-cost factors include fitness for purpose, quality, delivery, service, support and sustainability impacts) | B16: Yes, the non cost value of the goods/services is very high (e.g. critical to quality and achieving value for money, therefore KPI's would be developed and compliance monitored) | C16: =VLOOKUP($B16,'Question list and score'!Y12:Z16,2,FALSE) -> 18
A17: ='[1]question list and score'!AB12 -> Q10. Would it be beneficial to aggregate demand within an organisation or across organisations? | B17: Demand aggregation should not occur: (1) specs. too complex/novel (2) insufficient demand/economies of scale to benefit (3) good/service is organisation specific limited benefit (4) potential to create a monopoly (5) cost outweighs the benefit | C17: =VLOOKUP($B17,'Question list and score'!AB12:AC15,2,FALSE) -> 0
A18: ='[1]question list and score'!AE12 -> Q11. Is the purchase of the goods/services consistent with the Government's priorities and objectives (economic, environmental and social) and/or the revelvant (if applicable) NSW Government or Departmental Category Plans? | B18: Purchase of the goods/services has no (or very little) alignment with priorities or objectives of Government and relevant Category Plans | C18: =VLOOKUP($B18,'Question list and score'!AE13:AF16,2,0) -> 0
A19: Results of Value Risk Assessment for a sourcing activity

Sheet VRM Contract
A1: Value Risk Matrix (VRM) for Contract(s) | C1: Updated 30 September 2026
A2: This RVM can be used to assess the complexity of a contract(s) for specific goods or services
A4: What is the scope of the contract(s) are you assessing? | B4: [insert]
A5: Contract Name: | B5: [insert]
A6: Supplier(s): | B6: [insert]
A7: Risk/Value Assessment performed by: | B7: [insert] | C7: DD/MM/YY
A8: Contract Manager: | B8: [insert]
A9: Contract Owner: | B9: [insert]
A10: Question | B10: Answer | C10: Score | D10: Comments
A11: Risk Questions (Y axis) | B11: Please select from below drop down list | C11: =SUM(C12:C18) -> 52
A12: ='Question list and score'!A21 -> Q1. Is the contract for goods/services that are critical to the organisation and/or its core operations? | B12: Yes, the goods/services are highly critical (i.e. fundamental) to the organisation and/or core operations (e.g. direct impact on critical front line services) | C12: =VLOOKUP($B12,'Question list and score'!A21:B25,2,FALSE) -> 10
A13: ='Question list and score'!D21 -> Q2. Would there be a significant interruption to the organisation’s core operations if the supplier defaults? | B13: Yes, there would be a significant interruption (major or severe risk) to the organisation’s core operations with a high transition time to an alternate supplier | C13: =VLOOKUP($B13,'Question list and score'!D21:E25,2,FALSE) -> 10
A14: ='Question list and score'!G21 -> Q3. What is the financial risk to the organisation if the supplier defaults? (Assess this using the risk assessment framework within your organisation) | B14: High risk | C14: =VLOOKUP($B14,'Question list and score'!G21:H25,2,FALSE) -> 8
A15: ='Question list and score'!J21 -> Q4. What is the legal or regulatory risk to the organisation if the supplier defaults? (Assess this using the risk assessment framework within your organisation) | B15: High risk | C15: =VLOOKUP($B15,'Question list and score'!J21:K25,2,FALSE) -> 8
A16: ='Question list and score'!M21 -> Q5. What is the risk to people (e.g. health, welfare, safety) if the supplier defaults? (Assess this using the risk assessment framework within your organisation) | B16: High risk | C16: =VLOOKUP($B16,'Question list and score'!M21:N25,2,FALSE) -> 8
A17: ='Question list and score'!P21 -> Q6. What is the reputational / social / media risk to the organisation if the supplier defaults? (Assess this using the risk assessment framework within your organisation) | B17: High risk | C17: =VLOOKUP($B17,'Question list and score'!P21:Q25,2,FALSE) -> 8
A18: ='Question list and score'!S21 -> Q7. Have any risks (unique to the supplier) been identified that need to be managed? (e.g. past performance issues, financial viability, start-up company, previous disputes, difficult dealings with supplier, issues raised in contract negotiations)? Would you classify the supplier as low, medium or high risk? | B18: Low risk | C18: =VLOOKUP($B18,'Question list and score'!S21:T25,2,FALSE) -> 0
A19: Value Questions (X axis) | C19: =SUM(C20:C23) -> 0
A20: ='Question list and score'!V21 -> Q8. What is the total cost of ownership (TCO) for the goods/services purchased under the contract(s)? | B20: LOW: TCO of the goods/services is of low value (e.g. total contract value is <$150K) | C20: =VLOOKUP($B20,'Question list and score'!V21:W26,2,FALSE) -> 0
A21: ='Question list and score'!Y21 -> Q9. Is the non cost value of the goods/services high? (Examples of non-cost factors include fitness for purpose, quality, delivery, service, support and sustainability impacts) | B21: LOW: The non cost value of the goods/services is low (e.g. Unlikely that non-cost value will be measured during the life of the contract) | C21: =VLOOKUP($B21,'Question list and score'!Y21:Z25,2,FALSE) -> 0
A22: ='[1]question list and score'!AB21 -> Q10. [This has been left blank in case other questions need to be included in the VRM for contracts. If so, scoring of questions will need to be adjusted] | B22: Option A | C22: =VLOOKUP($B22,'[1]question list and score'!$AB:$AC,2,FALSE) -> 0
A23: ='[1]question list and score'!AE21 -> Q11. [This has been left blank in case other questions need to be included in the VRM for contracts. If so, scoring of questions will need to be adjusted] | B23: Option B | C23: =VLOOKUP($B23,'[1]question list and score'!$AE:$AF,2,FALSE) -> 0
A24: Results of Value Risk Assessment for a Contract(s)

Sheet Question list and score
A1: CATEGORY: Questions 1-7 relevant to assessing risk (Y-axis) | V1: CATEGORY: Questions 8-11 relevant to assessing value (X-axis)
A2: Q1. Do the specifications of the goods/services in the category require customisation? | B2: Score | D2: Q2. Is the category of goods/services critical to the organisation and/or its core operations? | E2: Score | G2: Q3. Is the category of goods/services being purchased from a competitive market? Competitive market includes consideration of substitute goods/services and the suppliers within that market | H2: Score | J2: Q4. Will the purchase(s) within the category impact the local market? | K2: Score | M2: Q5. Would there be a significant interruption to the organisation’s core operations if the supplier(s) defaults? | N2: Score | P2: Q6. Are there local industry considerations with this category? E.g. recognise the impact of international suppliers on participation by local businesses. | Q2: Score | S2: Q7. What level of confidence do stakeholders and/or the community (if relevant) have that the required outcome(s) will be delivered? | T2: Score | V2: Q8. What is the total cost of ownership (TCO) for this category of goods/services? | W2: Score | Y2: Q9. Is the non cost value of this category of goods/services high? (Examples of non-cost factors include fitness for purpose, quality, delivery, service, support and sustainability impacts) | Z2: Score | AB2: Q10. Would it be beneficial to aggregate demand for this category within an organisation or across organisations? | AC2: Score | AE2: Q11. Is the purchase of the goods/services within the category consistent with the Government's priorities and objectives (economic, environmental and social) as per NSW Government or Agency Category Plans? | AF2: Score
A3: No, requirements are standard (e.g. off the shelf product, standard service) | B3: 0 | D3: No, the category of goods/services are of low criticality (i.e. minor or insignificant) to the organisation or core operations (e.g. generally used in back-office functions or are consumables) | E3: 0 | G3: Yes, there is a highly competitive market with many suitable substitutes or suppliers | H3: 0 | J3: No, the procurement will not be material to the market. Typically no impact on local market. | K3: 0 | M3: No, the time to transition to an alternate supplier would be minimal, or a back up supplier will be in place | N3: 0 | P3: No. Either not applicable, or international suppliers are an established part of the market or the market is not currently attractive to international suppliers | Q3: 0 | S3: None or Low: The community and/or stakeholders have little or no confidence that the required outcome(s) will be delivered | T3: 0 | V3: LOW: TCO of this category of goods/services is of low value, (e.g. minimal support or maintenance requirements). | W3: 0 | Y3: No, the non cost value of this category of goods/services is low (e.g. Unlikely that non-cost value will be measured during the life of the contract) | Z3: 0 | AB3: Demand aggregation should not occur: (1) specs. too complex/novel (2) insufficient demand/economies of scale to benefit (3) good/service is organisation specific limited benefit (4) potential to create a monopoly (5) cost outweighs the benefit | AC3: 0 | AE3: Purchase of the goods/services has no (or very little) alignment with priorities or objectives of Government | AF3: 0
A4: Yes, however the goods/services only require a low level of customisation (e.g. small/minor configuration or specialisation) | B4: 4 | D4: Yes, the category of goods/services are of moderate criticality to the organisation and/or core operations. (E.g. may involve servicing or maintaining a critical asset) | E4: 6 | G4: Yes, there is a competitive market where at least 3-5 suitable substitutes or suppliers exist | H4: 3 | J4: No, the procurement will be material to the market but will not impact the competitive landscape. There is potential for impact on local suppliers. | K4: 2 | M4: No, because the time to transition to an alternate supplier would be acceptable | N4: 4 | P4: Yes, changes to the level of international market participation will impact local suppliers | Q4: 6 | S4: Some: The community and/or stakeholders have some confidence that the required outcome(s) will be delivered | T4: 3 | V4: MODERATE: TCO of this category of goods/services is of moderate value (e.g. top 20 categories for the organisation). There may be a high volume of low value transactions. Include implementation costs across multiple organisations in TCO calculations | W4: 4 | Y4: No, the non cost value of this category of goods/services is moderate (e.g. non-cost factors have relevance in determining whether value for money is achieved. Some KPI's may be developed. Non cost value would be a relevant consideration when assessing performance). | Z4: 6 | AB4: Yes, economies of scale can be achieved from demand aggregation, such as lowering cost of goods/services and/or reducing procurement costs | AC4: 6 | AE4: Purchase of the goods/services indirectly supports the priorities/objectives of Government. (E.g. goods/services relate to indirect spend, consumables, support functions). | AF4: 4
A5: Yes, the goods/services require a medium level of customisation/specialisation (which is not minor, but is not substantial either) | B5: 8 | D5: Yes, the category of goods/services are highly critical (i.e. fundamental) to the organisation and/or core operations (e.g. direct impact on critical front line services) | E5: 9 | G5: Yes, the market is competitive but highly concentrated - there are limited (<3) suitable substitutes or suppliers | H5: 6 | J5: Yes, the procurement has potential to significantly impact the market and may result in a reduction in competition between existing suppliers | K5: 4 | M5: Yes, there would be an interruption (of moderate risk) to the organisation’s core operations, due to the time to transition to a new supplier | N5: 8 | S5: High: The community and/or stakeholders have a high level of confidence that the required outcome(s) will be delivered | T5: 6 | V5: MED-HIGH: TCO of the category of goods/services is of med-high value (e.g. top 10 categories for the organisation). Might require specialised/dedicated skills to manage the procurement/contract. | W5: 8 | Y5: Yes, the non cost value of this category of goods/services is high (e.g. important but not critical to achieving value for money. KPI's would be developed and compliance monitored). | Z5: 12 | AB5: Yes, aggregation may be possible across organisations (e.g. establishing a Whole of Government arrangement), or through bundling products/categories. This may increase competition and better leverage economies of scale. | AC5: 12 | AE5: Partly, purchase of the goods/services aligns with some of the priorities/objectives of Government. May be some trade-off between objectives of the procurement for the organisation and Govt environmental, social or economic policies. | AF5: 8
A6: Yes, the goods/services require substantial customisation (e.g. complex or novel). Or scope of specifications are not fully known (e.g. supplier innovation required). | B6: 12 | G6: No, only one suitable substitute or supplier has been identified and qualified (e.g. where prior intellectual property has been co-developed with a supplier) | H6: 9 | J6: Yes, the procurement is likely to result in the creation of a monopoly or potential market power by government | K6: 6 | M6: Yes, there would be a significant interruption (major or severe risk) to the organisation’s core operations with a high transition time to an alternate supplier | N6: 12 | V6: HIGH: TCO of the category of goods/services is of high value (e.g. top 5 categories for the organisation). Might require specialised/dedicated skills to manage the procurement/contract. | W6: 12 | Y6: Yes, the non cost value of this category of goods/services is very high (e.g. critical to quality and achieving value for money, therefore KPI's would be developed and compliance monitored) | Z6: 18 | AE6: Yes, purchase of the goods/services directly aligns with and promotes the priorities and objectives of Government | AF6: 12
V7: VERY HIGH: TCO for the goods/services is of very high value (e.g. top 3 categories for the organisation) and might require specialised/dedicated skills to manage the procurement/contract. | W7: 18
A11: SOURCING: Questions 1-7 relevant to assessing risk (Y-axis) | V11: SOURCING: Questions 8-11 relevant to assessing value (X-axis)
A12: Q1. Do the specifications of the goods/services require customisation? | B12: Score | D12: Q2. Are the goods/services critical to the organisation and/or its core operations? | E12: Score | G12: Q3. Are the goods/services being purchased from a competitive market? Competitive market includes consideration of substitute goods/services and the suppliers within that market | H12: Score | J12: Q4. Will the purchase(s) impact the market? | K12: Score | M12: Q5. Would there be a significant interruption to the organisation’s core operations if the supplier defaults? | N12: Score | P12: Q6. Are there local industry considerations with this purchase? E.g. recognise the impact of international suppliers on participation by local businesses. | Q12: Score | S12: Q7. What level of confidence do stakeholders and/or the community (if relevant) have that the required outcome(s) will be delivered? | T12: Score | V12: Q8. What is the total cost of ownership (TCO) for the goods/services? | W12: Score | Y12: Q9. Is the non cost value of the goods/services high? (Examples of non-cost factors include fitness for purpose, quality, delivery, service, support and sustainability impacts) | Z12: Score | AB12: Q10. Would it be beneficial to aggregate demand within an organisation or across organisations? | AC12: Score | AE12: Q11. Is the purchase of the goods/services consistent with the Government's priorities and objectives (economic, environmental and social) and/or the revelvant (if applicable) NSW Government or Agency Category Plans? | AF12: Score
A13: No, requirements are standard (e.g. off the shelf product, standard service) | B13: 0 | D13: No, the goods/services are of low criticality (i.e. minor or insignificant) to the organisation or core operations (e.g. generally used in back-office functions or are consumables) | E13: 0 | G13: Yes, there is a highly competitive market with many suitable substitutes or suppliers | H13: 0 | J13: No, the procurement will not be material to the market. Typically no impact on local market. | K13: 0 | M13: No, the time to transition to an alternate supplier would be minimal, or a back up supplier will be in place | N13: 0 | P13: No. Either not applicable, or international suppliers are an established part of the market or the market is not currently attractive to international suppliers | Q13: 0 | S13: None or Low: The community and/or stakeholders have little or no confidence that the required outcome(s) will be delivered | T13: 6 | V13: LOW: TCO of the goods/services is of low value, (e.g. minimal support or maintenance requirements and estimated spend under $150,000). | W13: 0 | Y13: No, the non cost value of the goods/services is low (e.g. Unlikely that non-cost value will be measured during the life of the contract) | Z13: 0 | AB13: Demand aggregation should not occur: (1) specs. too complex/novel (2) insufficient demand/economies of scale to benefit (3) good/service is organisation specific limited benefit (4) potential to create a monopoly (5) cost outweighs the benefit | AC13: 0 | AE13: Purchase of the goods/services has no (or very little) alignment with priorities or objectives of Government and relevant Category Plans | AF13: 0
A14: Yes, however the goods/services only require a low level of customisation (e.g. small/minor configuration or specialisation) | B14: 4 | D14: Yes, the goods/services are of moderate criticality to the organisation and/or core operations. (E.g. may involve servicing or maintaining a critical asset) | E14: 6 | G14: Yes, there is a competitive market where at least 3-5 suitable substitutes or suppliers exist | H14: 3 | J14: The procurement will be material to the market but will not impact the competitive landscape. There is potential for impact on local suppliers. | K14: 2 | M14: No, because the time to transition to an alternate supplier would be acceptable | N14: 4 | P14: Yes, changes to the level of international market participation will impact local suppliers | Q14: 6 | S14: Some: The community and/or stakeholders have some confidence that the required outcome(s) will be delivered | T14: 3 | V14: MODERATE: TCO of the goods/services is of moderate value (e.g. $150,000-$2,000,000). There may be a high volume of low value transactions. Include cost of implementing suppliers across multiple organisations in TCO calculations | W14: 4 | Y14: No, the non cost value of the goods/services is moderate (e.g. non-cost factors have relevance in determining whether value for money is achieved. Some KPI's may be developed. Non cost value would be a relevant consideration when assessing performance. | Z14: 6 | AB14: Yes, economies of scale can be achieved from demand aggregation, such as lowering cost of goods/services and/or reducing procurement costs | AC14: 6 | AE14: Purchase of the goods/services indirectly supports the priorities/objectives of Government and relevant Category Plans. (E.g. goods/services relate to indirect spend, support functions). | AF14: 4
A15: Yes, the goods/services require a medium level of customisation/specialisation (which is not minor, but is not substantial either) | B15: 8 | D15: Yes, the goods/services are highly critical (i.e. fundamental) to the organisation and/or core operations (e.g. direct impact on critical front line services) | E15: 9 | G15: Yes, the market is competitive but highly concentrated - there are limited (<3) suitable substitutes or suppliers | H15: 6 | J15: Yes, the procurement has potential to significantly impact the market and may result in a reduction in competition between existing suppliers | K15: 4 | M15: Yes, there would be an interruption (of moderate risk) to the organisation’s core operations, due to the time to transition to a new supplier | N15: 8 | S15: High: The community and/or stakeholders have a high level of confidence that the required outcome(s) will be delivered | T15: 0 | V15: MED-HIGH: TCO of the goods/services is of med-high value (e.g. $2,000,000 - $5,000,000) and might require specialised/dedicated skills to manage the procurement/contract. | W15: 8 | Y15: Yes, the non cost value of the goods/services is high (e.g. important but not critical to achieving value for money. KPI's would be developed and compliance monitored). | Z15: 12 | AB15: Yes, aggregation may be possible across organisations (e.g. establishing a Whole of Government arrangement), or through bundling products/categories. This may increase competition and better leverage economies of scale. | AC15: 12 | AE15: Partly, purchase of goods/services aligns with some of the priorities/objectives of government and relevant Category Plan. May be some trade-off between objectives of the procurement for the organisation and Govt environmental, social or economic policies | AF15: 8
A16: Yes, the goods/services require substantial customisation (e.g. complex or novel). Or scope of specifications are not fully known (e.g. supplier innovation required). | B16: 12 | G16: No, only one suitable substitute or supplier has been identified and qualified (e.g. where prior intellectual property has been co-developed with a supplier) | H16: 9 | J16: Yes, the procurement is likely to result in the creation of a monopoly or potential market power by government | K16: 6 | M16: Yes, there would be a significant interruption (major or severe risk) to the organisation’s core operations with a high transition time to an alternate supplier | N16: 12 | V16: HIGH: TCO of the goods/services is of high value (e.g. $5,000,000 to $20,000,000) and might require specialised/dedicated skills to manage the procurement/contract. | W16: 12 | Y16: Yes, the non cost value of the goods/services is very high (e.g. critical to quality and achieving value for money, therefore KPI's would be developed and compliance monitored) | Z16: 18 | AE16: Yes, purchase of the goods/services directly aligns with and promotes the priorities and objectives of Government and relevant Category Plans | AF16: 12
V17: VERY HIGH: TCO for the goods/services is of very high value (e.g. greater than $20,000,000) and might require specialised/dedicated skills to manage the procurement/contract. | W17: 18
A20: CONTRACT: Questions 1-7 relevant to assessing risk (Y-axis) | V20: CONTRACT: Questions 8-9 relevant to assessing value (X-axis)
A21: Q1. Is the contract for goods/services that are critical to the organisation and/or its core operations? | B21: Score | D21: Q2. Would there be a significant interruption to the organisation’s core operations if the supplier defaults? | E21: Score | G21: Q3. What is the financial risk to the organisation if the supplier defaults? (Assess this using the risk assessment framework within your organisation) | H21: Score | J21: Q4. What is the legal or regulatory risk to the organisation if the supplier defaults? (Assess this using the risk assessment framework within your organisation) | K21: Score | M21: Q5. What is the risk to people (e.g. health, welfare, safety) if the supplier defaults? (Assess this using the risk assessment framework within your organisation) | N21: Score | P21: Q6. What is the reputational / social / media risk to the organisation if the supplier defaults? (Assess this using the risk assessment framework within your organisation) | Q21: Score | S21: Q7. Have any risks (unique to the supplier) been identified that need to be managed? (e.g. past performance issues, financial viability, start-up company, previous disputes, difficult dealings with supplier, issues raised in contract negotiations)? Would you classify the supplier as low, medium or high risk? | T21: Score | V21: Q8. What is the total cost of ownership (TCO) for the goods/services purchased under the contract(s)? | W21: Score | Y21: Q9. Is the non cost value of the goods/services high? (Examples of non-cost factors include fitness for purpose, quality, delivery, service, support and sustainability impacts) | Z21: Score | AB21: Q10. [This has been left blank in case other questions need to be included in the VRM for contracts. If so, scoring of questions will need to be adjusted] | AC21: Score | AE21: Q11. [This has been left blank in case other questions need to be included in the VRM for contracts. If so, scoring of questions will need to be adjusted] | AF21: Score
A22: No, the goods/services are of low criticality (i.e. minor or insignificant) to the organisation or core operations (e.g. generally used in back-office functions or are consumables) | B22: 0 | D22: No, the time to transition to an alternate supplier would be minimal, or a back up supplier will be in place | E22: 0 | G22: Low risk or not applicable | H22: 0 | J22: Low risk or not applicable | K22: 0 | M22: Low risk or not applicable | N22: 0 | P22: Low risk or not applicable | Q22: 0 | S22: Low risk | T22: 0 | V22: LOW: TCO of the goods/services is of low value (e.g. total contract value is <$150K) | W22: 0 | Y22: LOW: The non cost value of the goods/services is low (e.g. Unlikely that non-cost value will be measured during the life of the contract) | Z22: 0 | AB22: Option A | AC22: 0 | AE22: Option A | AF22: 0
A23: Yes, the goods/services are of moderate criticality to the organisation and/or core operations. (E.g. may involve servicing or maintaining a critical asset) | B23: 5 | D23: No, because the time to transition to an alternate supplier would be acceptable | E23: 3 | G23: Medium risk | H23: 4 | J23: Medium risk | K23: 4 | M23: Medium risk | N23: 4 | P23: Medium risk | Q23: 4 | S23: Medium risk | T23: 4 | V23: MODERATE: TCO of the goods/services is of moderate value. There may be a high volume of low value transactions. (e.g. Total contract value is $150K - $2M) | W23: 10 | Y23: MODERATE: The non cost value of the goods/services is moderate (e.g. non-cost factors have relevance in determining whether value for money is achieved. Some standard KPI's apply. Non cost value is relevant to assessing performance. | Z23: 8 | AB23: Option B | AC23: 0 | AE23: Option B | AF23: 0
A24: Yes, the goods/services are highly critical (i.e. fundamental) to the organisation and/or core operations (e.g. direct impact on critical front line services) | B24: 10 | D24: Yes, there would be an interruption (of moderate risk) to the organisation’s core operations, due to the time to transition to a new supplier | E24: 7 | G24: High risk | H24: 8 | J24: High risk | K24: 8 | M24: High risk | N24: 8 | P24: High risk | Q24: 8 | S24: High risk | T24: 8 | V24: MED-HIGH (Top 20/$500K-$1M): TCO of the goods/services is of med-high value (e.g. top 20 contracts/suppliers for the organisation or contracts $2M - $5M in value). | W24: 20 | Y24: HIGH: The non cost value of the goods/services is high (e.g. important but not critical to achieving value for money. KPI's apply and will be monitored). | Z24: 16 | AB24: Option C | AC24: 0 | AE24: Option C | AF24: 0
D25: Yes, there would be a significant interruption (major or severe risk) to the organisation’s core operations with a high transition time to an alternate supplier | E25: 10 | H25: 0 | K25: 0 | N25: 0 | Q25: 0 | T25: 0 | V25: HIGH (Top 10/$1M-$5M): TCO of the goods/services is of high value (e.g. top 10 contracts/suppliers for the organisation, or contracts $5M - $25M in value). | W25: 30 | Y25: VERY HIGH: The non cost value of the goods/services is very high - critical to quality and achieving value for money. Tailored KPI's apply and will be monitored regularly) | Z25: 20 | AE25: Option D | AF25: 0
V26: VERY HIGH (Top 5/>$5M): TCO for the goods/services is of very high value (e.g. top 5 contracts/suppliers for the organisation, or contracts >$25M in value) | W26: 40
